BEGIN:VCALENDAR
VERSION:2.0
PRODID:-//Learn French At Home - ECPv6.15.20//NONSGML v1.0//EN
CALSCALE:GREGORIAN
METHOD:PUBLISH
X-WR-CALNAME:Learn French At Home
X-ORIGINAL-URL:https://www.learnfrenchathome.com
X-WR-CALDESC:Events for Learn French At Home
REFRESH-INTERVAL;VALUE=DURATION:PT1H
X-Robots-Tag:noindex
X-PUBLISHED-TTL:PT1H
BEGIN:VTIMEZONE
TZID:Europe/Paris
BEGIN:DAYLIGHT
TZOFFSETFROM:+0100
TZOFFSETTO:+0200
TZNAME:CEST
DTSTART:20250330T010000
END:DAYLIGHT
BEGIN:STANDARD
TZOFFSETFROM:+0200
TZOFFSETTO:+0100
TZNAME:CET
DTSTART:20251026T010000
END:STANDARD
BEGIN:DAYLIGHT
TZOFFSETFROM:+0100
TZOFFSETTO:+0200
TZNAME:CEST
DTSTART:20260329T010000
END:DAYLIGHT
BEGIN:STANDARD
TZOFFSETFROM:+0200
TZOFFSETTO:+0100
TZNAME:CET
DTSTART:20261025T010000
END:STANDARD
BEGIN:DAYLIGHT
TZOFFSETFROM:+0100
TZOFFSETTO:+0200
TZNAME:CEST
DTSTART:20270328T010000
END:DAYLIGHT
BEGIN:STANDARD
TZOFFSETFROM:+0200
TZOFFSETTO:+0100
TZNAME:CET
DTSTART:20271031T010000
END:STANDARD
END:VTIMEZONE
BEGIN:VEVENT
DTSTART;TZID=Europe/Paris:20260604T090000
DTEND;TZID=Europe/Paris:20260607T163000
DTSTAMP:20260420T152101
CREATED:20250703T100646Z
LAST-MODIFIED:20260324T125554Z
UID:45671-1780563600-1780849800@www.learnfrenchathome.com
SUMMARY:French Immersion Workshop in Biarritz France - June 2026
DESCRIPTION:[vc_row content_placement=”top” source=”” text=”” font_container=”tag:h2|font_size:25|text_align:left” use_theme_fonts=”yes” google_fonts=”font_family:Abril%20Fatface%3Aregular|font_style:400%20regular%3A400%3Anormal” link=””][vc_column][vc_btn title=”Register Now” style=”flat” shape=”round” color=”warning” align=”center” i_icon_fontawesome=”fa fa-ticket” add_icon=”true” el_class=”eventcontent” link=”url:https%3A%2F%2Fwww.learnfrenchathome.com%2Fproduct%2Ffrench-immersion-workshop-in-biarritz-tickets-june-2026%2F|title:Register%20to%20the%20workshop%20in%20Biarritz|target:%20_blank|” css=”.vc_custom_1751559454503{margin-top: -10px !important;}”][vc_column_text]\n4-Day Immersion Workshop from June 4 to June 7\, 2026\nImprove your French speaking and comprehension skills in one of the most attractive cities on the west coast of France.\nWhen the famous writer Victor Hugo came for the first time to the city of Biarritz in 1843\, he said “I do not know a place more charming and magnificent.”  \nLocated in the far southwest of France\, in the Pyrénées-Atlantiques and the Basque country\, just minutes from the Spanish border\, Biarritz has been attracting travelers around the world for centuries.  \nWhen we went to Biarritz for the first time\, not only were we struck by this true coastal gem\, but we were also immediately charmed by the welcoming and vibrant Basque culture. \nWe are excited to give a Biarritz experience to French learners by organizing a 4-day French immersion workshop in June 2026!\nFrench workshop in Biarritz[/vc_column_text][vc_row_inner content_placement=”middle”][/vc_row_inner][vc_images_carousel images=”45683\,45682\,45681\,45680\,45684\,45690\,45679\,45678″ img_size=”full” speed=”3000″ autoplay=”yes” wrap=”yes” css=”.vc_custom_1751607896581{margin-left: 25px !important;}”][vc_column_text css=”.vc_custom_1770557993948{border-bottom-width: -25px !important;}”]\n4-Day French Immersion Workshop: June 4\, 5\, 6\, 7\, 2026\nThis workshop will last a total of 4  full days and will be filled with French learning group exercises in a charming hotel located in the city center of Biarritz right across the bustling central market! \nThis exciting French immersion course is created and hosted by the founders and teachers of the French learning school: Learn French at Home\, and editors of our French learning publication: French Accent Magazine: Céline\, Vincent\, Annick and Roger. \nDuring these 4 days\, the students will have the opportunity to practise their verbal skills in context\, learn about French and the Basque cultures\, and meet other like minded classmates.  Outdoor cultural activities will be organised as well to immerse the students in French life and culture. A few grammar points will be reviewed and put into contexts with lively group exercises. \nWe will help you experience a wonderful and memorable time in this unique workshop. Many hours are spent preparing the activities to ensure an interesting and fun experience for each participant. Most of the activities are organised in small groups and they are all performed in a very positive and friendly environment. \n18 participants maximum. \nExquisite lunches are included everyday. \nFor the ones who wish to continue to socialise in French in some of the evenings\, they will have the option to join us for dinner in one of the restaurants in town.\nFrench workshop France[/vc_column_text][vc_video link=”https://youtu.be/M9FJ1Jx2h00″ el_width=”50″ align=”center” css=”.vc_custom_1733246000820{margin-right: -10px !important;margin-left: -10px !important;border-right-width: -10px !important;border-left-width: -10px !important;padding-right: -20px !important;padding-left: -20px !important;}”][vc_empty_space][vc_single_image image=”47735″ img_size=”full” alignment=”center” onclick=”custom_link” img_link_target=”_blank” link=”https://www.frenchimmersions.com/groupimmersion”][/vc_column][/vc_row][vc_row][vc_column width=”1/2″][vc_single_image image=”38190″ img_size=”400×425″ add_caption=”yes” style=”vc_box_border” border_color=”white” title=”The French teachers” css=”.vc_custom_1733474629232{margin-bottom: 20px !important;border-radius: 2px !important;}”][vc_single_image image=”4186″ img_size=”400X400″ add_caption=”yes” style=”vc_box_border” border_color=”white” css=”.vc_custom_1733474601163{margin-top: 20px !important;border-radius: 3px !important;}”][vc_single_image image=”43743″ img_size=”400X340″ add_caption=”yes” style=”vc_box_border” border_color=”white” css=”.vc_custom_1748175620446{margin-top: 20px !important;border-radius: 3px !important;}”][vc_single_image image=”38218″ img_size=”400X340″ add_caption=”yes” style=”vc_box_border” border_color=”white” css=”.vc_custom_1733240569549{margin-top: 20px !important;border-radius: 3px !important;}”][/vc_column][vc_column width=”1/2″][vc_empty_space height=”92px”][vc_column_text css=”.vc_custom_1751558692801{margin-bottom: 35px !important;}”]\n\n\n\n4 Days French Workshop Event Dates \nJune 4th\, 5th\, 6th\, and 7th\, 2026\n\n\n\nWhere?\nBIARRITZ\, FRANCE \n\nTicket Prices\n4 Days $1\,580 /  €1\,430  / £1\,210 / 1\,380 CHF per person \n\nWhat’s included?\n-4 full days of classroom activities. \n-French learning material. \n-4 lunches. \n-Wine tasting activity. \n-Coffee\, tea and snacks all day. \nRegister Now \n\nWho is this event for ?\nThis French Immersion Retreat is for intermediate French level students. At this level\, you already have learned the past tenses (imparfait\, passé composé\, plus que parfait)\, the future tenses as well as the conditional one and you wish to practise them in context. You know how to ask and answer questions on personal details\, make requests\, and hold basic conversations on familiar topics. You can describe situations\, make suggestions and give directions. \nMost of the activities are organized by groups and we create them according to the student’s French level. \nIf you are unsure if this workshop would be the right fit for your current level\, ask your teacher or fill out this form and Céline will get back to you to schedule a zoom session  \n\nWhat are you going to learn?\nDuring this workshop\, the lessons and activities might include the following (and more…): \n-Question making in the past/present/future. \n-Practising the prepositions of time: depuis\, ça fait pendant\, pour\, il y a\, en et dans. \n-Vocabulary and verbs to make descriptions\, express feelings and opinions.. \n-Verbs in the conditional tense to make suggestions. \n-Negatives to politely refuse something or to explain one’s position. \n-Activities to work on comprehension skills with everyday life language. \n-Communication language in a real life setting in Biarritz. \n-Cultural discussions on French culture. \n-A bit of history on Biarritz and the basque culture. \n[/vc_column_text][/vc_column][/vc_row][vc_row][vc_column][vc_separator el_class=”eventcontent”][/vc_column][/vc_row][vc_row full_width=”stretch_row”][vc_column][vc_custom_heading text=”Biarritz – a stunning blend of elegance and belle époque architecture by the sea.” font_container=”tag:h2|font_size:35|text_align:left” use_theme_fonts=”yes” css=”.vc_custom_1751560131054{margin-bottom: -25px !important;}”][vc_row_inner][vc_column_inner width=”1/3″][vc_single_image image=”45691″ img_size=”large” style=”vc_box_border” border_color=”white”][vc_single_image image=”45688″ img_size=”large” style=”vc_box_border” border_color=”white”][vc_single_image image=”45692″ img_size=”large” style=”vc_box_border” border_color=”white”][vc_separator][vc_separator][/vc_column_inner][vc_column_inner width=”2/3″][vc_column_text]Not only will you be improving your French\, but you’ll also experience a wonderful getaway at one of the west coast’s prettiest escapes.  Biarritz is not just a destination—it’s an experience that awakens all the senses.\nBiarritz is a cultural treasure nestled on France’s southwestern coast—where French elegance meets Basque soul. Long cherished by artists\, writers\, and European nobility\, the town pulses with a refined yet vibrant energy. \nThe Belle Époque décor of Biarritz reflects the town’s golden age as a luxurious seaside destination in the late 19th and early 20th centuries. Elegant hotels\, villas\, and promenades showcase refined architectural lines\, soft pastel tones\, and decorative details that evoke a sense of romance and sophistication. This graceful style continues to shape the city’s unique charm and atmosphere today. \nIf you are a surfer enthusiast\, this is your opportunity to ride the waves of the main beach of the city. Biarritz is the birthplace of surfing in France and even in Europe! \nFor the lovers of French\, Spanish and Basque cuisine\, you’ll savor this unique culinary heritage in every bite—whether it’s a plate of freshly grilled fish from the Port des Pêcheurs\, a steaming bowl of piperade (a spicy pepper and tomato dish)\, or delicate slices of jambon de Bayonne. The region is also famous for its sheep’s milk cheeses\, seafood tapas known as pintxos\, and desserts like the iconic gâteau basque. \nThe classes will take place in a beautiful hotel called Hotel de La Silhouette located across from Les Halles (the market in the center of town).\nThe hotel is the result of a full renovation of one of Biarritz’s oldest buildings\, dating back to around 1600. Its walls were originally built for Etienne de Silhouette\, a finance minister under Louis XV. His family’s coat of arms is still engraved above the hotel’s main entrance. \nYou’ll enjoy the lush garden which will bring a moment of relaxation.[/vc_column_text][vc_separator][/vc_column_inner][/vc_row_inner][vc_message]\nSpecial offer: If you book 10 or 22 individual lessons to prepare for your workshop\, you will receive 10% off on the lessons and the workshop registration!\nHow to book both?\nJust add the option 10 or 22 Regular lessons when you register for the workshop\, the add the coupon code: immspecial in the cart \n[/vc_message][vc_separator el_class=”eventcontent”][gt3_testimonials posts_per_line=”2″][gt3_testimonial_item tstm_author=”Michael Storrings\, NY\, USA” author_status=”Workshop in La Rochelle – January 2026″ image=”47890″ select_rate=”none”]“What a fun time! Wonderful as always! Nice group of people. Fun exercises and clear explanations. The amount of preparation you do beforehand is greatly appreciated!”[/gt3_testimonial_item][gt3_testimonial_item tstm_author=”Dania\, Princeton\, New Jersey\, USA” author_status=”Workshop in La Rochelle – January 2026″ image=”47889″ select_rate=”none”]“J’ai adoré l’atelier ! Tous les exercices étaient courts et clairs. Les activités étaient amusantes et réalistes.\nEt j’ai pris confiance dans le shopping à la française grâce à la gentillesse des vendeurs aux Halles ! J’étais triste de voir la fin du cours.\nJ’ai trouvé La Rochelle historique et pittoresque. C’était un endroit parfait pour que les étrangers puissent découvrir la vie française.”[/gt3_testimonial_item][gt3_testimonial_item tstm_author=”Ian\, Lille in France” author_status=”Workshop in La Rochelle – June 2025″ image=”27109″ select_rate=”none”]“Je voulais vous remercier sincèrement pour cette belle semaine à La Rochelle. J’ai vraiment apprécié le cours — c’était à la fois stimulant\, bien structuré et humain. Merci pour votre écoute\, votre bienveillance et votre sens du détail : j’en ressors motivé et rechargé. Émilie a aussi passé un excellent moment et a beaucoup aimé faire la connaissance de Vincent\, Élise\, Alex et vous-même. Toute l’équipe était formidable — chaleureuse\, professionnelle\, et toujours attentive à chacun.“[/gt3_testimonial_item][gt3_testimonial_item tstm_author=”Colin Corwall\, Ann Arbor\, Michigan\, USA” author_status=”Workshop in Nantes\, May 2025″ image=”7451″ select_rate=”none”]“I really enjoyed having the workshop in Nantes! Keep up the great work! I’ll definitely be coming in the future. I really appreciated the care that was put into the workshop this year. And the attention to detail of pairing up people who work well together. Until next time!” [/gt3_testimonial_item][gt3_testimonial_item tstm_author=”Paul from Idaho\, USA” author_status=”Workshop in La Rochelle – June 2023″ image=”38191″ select_rate=”none”]“I loved it! Please keep up the good work! I know you put a tremendous amount of work into this behind the scenes. Thank you! I enjoyed all the activities. The guide was a nice touch\, I appreciated that she repeated things many times.“[/gt3_testimonial_item][gt3_testimonial_item tstm_author=”Jackie from Los Angeles\, CA\, USA” author_status=”Workshop in La Rochelle – Juin 2023″ image=”27099″ select_rate=”none”]“It was a success! I got out of my comfort zone. I made new friends. I improved my French in a fun and interesting way. I appreciate that the activities were varied.” [/gt3_testimonial_item][gt3_testimonial_item tstm_author=”John from London\, UK” author_status=”Workshop in La Rochelle – June 2023″ image=”27124″ select_rate=”none”]“I enjoyed the immersion\, good fun\, good company\, good learning experience.  I would do it again.”[/gt3_testimonial_item][gt3_testimonial_item tstm_author=”Sandra in La Rochelle\, France” author_status=”Workshop in La Rochelle – June 2023″ image=”27354″ select_rate=”none”]“Je tiens à vous remercier –  toi\, Vincent\, Annick\, Roger et toute votre équipe pour ce magnifique atelier de 4 jours à La Rochelle.  C’était vraiment un plaisir de vous rencontrer et de travailler avec vous tous\, et merveilleux de rencontrer tant d’autres étudiants de Learn French at home.” – Sandra à La Rochelle[/gt3_testimonial_item][gt3_testimonial_item tstm_author=”Sylvia from L.A.” author_status=”Workshop in Santa Barbara” image=”9037″ select_rate=”none”]“You outdid yourself.  It was an incredible experience.  I couldn’t stop talking about it yesterday and with my husband and friends. I felt it was very professionally done.  Every aspect of the workshop was quality. I thank you for putting on such an excellent event!”  – Sylvia from L.A.[/gt3_testimonial_item][gt3_testimonial_item tstm_author=”Shirry Dolgin in California” author_status=”Workshop in Ojai\, CA” image=”7455″ select_rate=”none”]“It was absolutely wonderful and was beyond what I expected! I learned new vocabulary words and got more comfortable in speaking freely in French. It was fantastic!” – Shirry Dolgin\, California\n\n[/gt3_testimonial_item][gt3_testimonial_item tstm_author=”Cheryl Beers in California” author_status=”Workshop in Ojai\, CA” image=”27358″ select_rate=”none”]“What a great experience! I felt very comfortable and supported\, even when I struggled to find the words!”\n[/gt3_testimonial_item][gt3_testimonial_item tstm_author=”Karen Cook in Arizona” author_status=”Workshop in Ojai\, CA” image=”7439″ select_rate=”none”]“I enjoyed the program very much. The lessons\, projects\, and teachers were interesting and fun\, and I learned a lot.”\n[/gt3_testimonial_item][gt3_testimonial_item tstm_author=”Dana Wilson in South Carolina” author_status=”Workshop in Ojai” image=”4227″ select_rate=”none”]“I spoke more French this weekend than I have in many\, many years! I thought it was great and well planned out. The lunches were delicious!” [/gt3_testimonial_item][/gt3_testimonials][/vc_column][/vc_row][vc_row][vc_column][vc_custom_heading text=”What to expect from our workshops” font_container=”tag:h2|font_size:25|text_align:left” use_theme_fonts=”yes”][vc_column_text]The French Immersion Workshops will take place in the beautiful city center of Biarritz\, France. \nThe details of the workshops will be sent to the participants a month before the event\, but you can expect the following: \n-Classes will take place in the hotel de Silhouette. You  will engage in hours of language building skills in the classroom every day.\nThe activities will include comprehension and verbal expression work\, grammar points\, everyday life and idiomatic expressions\, all put into context through projects\, games and exercises in mini groups. \nDuring the 4-day  immersion workshop\, you can expect cultural activities and a few half day field trip excursions with language learning objectives. \n-Lunch will take place either the hotel or in a restaurant in the city center of Biarritz. \n-Dinners are optional\, depending on if you wish to continue to socialise in French during the evenings. \nHave a look at our workshop programme that we held in June 2025 in La Rochelle.\nThis is just to give you an overall idea. The June 2026 workshop will last 4 days and will have different activities and outdoor excursions. \n[/vc_column_text][vc_row_inner][/vc_row_inner][vc_column_text]\nRegister Now – Seating is Limited!\n[/vc_column_text][vc_empty_space][/vc_column][/vc_row][vc_row][vc_column][vc_separator][vc_separator][/vc_column][/vc_row][vc_row][vc_column][/vc_column][/vc_row][vc_row el_class=”eventcontent”][/vc_row][vc_column][/vc_column][vc_cta h2=”Register Now” h4=”Spaces are limited. Event sells out in advance.” shape=”square” style=”flat” color=”blue” add_button=”bottom” btn_title=”Buy Tickets” btn_style=”flat” btn_color=”warning” add_icon=”top” i_icon_fontawesome=”fa fa-ticket” i_color=”white” btn_link=”url:https%3A%2F%2Fwww.learnfrenchathome.com%2Fproduct%2Ffrench-immersion-workshop-in-biarritz-tickets-june-2026%2F|title:Register%20to%20the%20workshop%20in%20Biarritz||”]\nTicket Prices\n\n4 days (Thursday June 4th\, Friday June 5th\, Saturday June 6th\, Sunday June 7th\, 2026) \n$1\,580 /  €1\,430  / £1\,210 / 1\,380 CHF per person[/vc_cta][vc_row][vc_column][vc_column_text]Do you have any questions? Send us an email here and we’ll get back to you very shortly. \nPayment conditions: \n4-day workshop payment schedule:\nDeposit of $600 / 600€ / £600 / 600CHF at registration. The remaining payment will be due at the end of March 2026. An invoice will be sent to you at that time. \nCancellation policy: \n4-day workshop: the deposit is 100% fully refundable before April 4th\, 2026. After that date\, the deposit is non refundable.\nAfter May 4th\, 2026\, the full workshop price is not refundable\, but it can be transferred to another person.[/vc_column_text][/vc_column][/vc_row][vc_row][vc_column][vc_column_text]\n[/vc_column_text][/vc_column][/vc_row][vc_row][vc_column][vc_column_text]\n[/vc_column_text][/vc_column][/vc_row]
URL:https://www.learnfrenchathome.com/event/french-immersion-workshop-in-biarritz-france-june-2026/
LOCATION:Hotel de Silouhette\, 30 rue Gambetta\, Biarritz\, 64200\, France
ATTACH;FMTTYPE=image/jpeg:https://www.learnfrenchathome.com/wp-content/uploads/2025/07/French-workshop-france-biarritz-1.jpg
END:VEVENT
END:VCALENDAR